BEGIN:VCALENDAR
VERSION:2.0
PRODID:-//One Ocean County - ECPv5.9.0//NONSGML v1.0//EN
CALSCALE:GREGORIAN
METHOD:PUBLISH
X-WR-CALNAME:One Ocean County
X-ORIGINAL-URL:https://oneoceancounty.com
X-WR-CALDESC:Events for One Ocean County
BEGIN:VTIMEZONE
TZID:UTC
BEGIN:STANDARD
TZOFFSETFROM:+0000
TZOFFSETTO:+0000
TZNAME:UTC
DTSTART:20230101T000000
END:STANDARD
END:VTIMEZONE
BEGIN:VEVENT
DTSTART;TZID=UTC:20230507T110000
DTEND;TZID=UTC:20230507T130000
DTSTAMP:20260419T124320
CREATED:20230320T235152Z
LAST-MODIFIED:20230504T184851Z
UID:2729-1683457200-1683464400@oneoceancounty.com
SUMMARY:Planting Day
DESCRIPTION:Join our dedicated volunteers as we gather to sow and plant for the 2023 gardening season. This is a great chance to learn about what we do in the garden and how we maintain the garden beds throughout the season. We have all the tools you’ll need to join us but advise that you wear comfortable clothing that can get dirty and bring a water bottle. No experience is necessary to join us for this event. \n 
URL:https://oneoceancounty.com/event/planting-day/
LOCATION:Common Grounds Community Garden\, John Patrick Sports Complex\, Lakewood\, NJ\, 08701\, United States
ATTACH;FMTTYPE=image/jpeg:https://oneoceancounty.com/wp-content/uploads/2022/08/WhatsApp-Image-2022-08-16-at-7.41.07-PM-copy-e1680196092959.jpeg
END:VEVENT
END:VCALENDAR