BEGIN:VCALENDAR
VERSION:2.0
PRODID:-//One Ocean County - ECPv5.9.0//NONSGML v1.0//EN
CALSCALE:GREGORIAN
METHOD:PUBLISH
X-WR-CALNAME:One Ocean County
X-ORIGINAL-URL:https://oneoceancounty.com
X-WR-CALDESC:Events for One Ocean County
BEGIN:VTIMEZONE
TZID:UTC
BEGIN:STANDARD
TZOFFSETFROM:+0000
TZOFFSETTO:+0000
TZNAME:UTC
DTSTART:20220101T000000
END:STANDARD
END:VTIMEZONE
BEGIN:VEVENT
DTSTART;TZID=UTC:20220802T163000
DTEND;TZID=UTC:20220802T200000
DTSTAMP:20260423T100923
CREATED:20220712T182805Z
LAST-MODIFIED:20220712T182805Z
UID:2575-1659457800-1659470400@oneoceancounty.com
SUMMARY:Night Out Against Crime
DESCRIPTION:Come say hello to our volunteers at Lakewood’s annual Night Out Against Crime. We’ll be hosting a table at this great community event to showcase some of we grow at the garden and teach the greater community about the work we do.
URL:https://oneoceancounty.com/event/night-out-against-crime/
LOCATION:Pine Park Lakewood NJ\, Pine Park\, Lakewood\, NJ\, United States
END:VEVENT
END:VCALENDAR